Package: ramr Version: 1.19.0 Command: /home/biocbuild/bbs-3.23-bioc/R/bin/R CMD check --install=check:ramr.install-out.txt --library=/home/biocbuild/bbs-3.23-bioc/R/site-library --timings ramr_1.19.0.tar.gz StartedAt: 2025-11-08 02:58:09 -0500 (Sat, 08 Nov 2025) EndedAt: 2025-11-08 03:03:27 -0500 (Sat, 08 Nov 2025) EllapsedTime: 317.8 seconds RetCode: 0 Status: OK CheckDir: ramr.Rcheck Warnings: 0