Package: ramr Version: 1.19.0 Command: /home/biocbuild/bbs-3.23-bioc/R/bin/R CMD build --keep-empty-dirs --no-resave-data ramr StartedAt: 2025-11-04 19:23:25 -0500 (Tue, 04 Nov 2025) EndedAt: 2025-11-04 19:26:02 -0500 (Tue, 04 Nov 2025) EllapsedTime: 156.2 seconds RetCode: 0 Status: OK PackageFile: ramr_1.19.0.tar.gz PackageFileSize: 2.754 MiB