Package: ramr Version: 1.17.1 Command: /Library/Frameworks/R.framework/Resources/bin/R CMD INSTALL ramr StartedAt: 2025-10-15 15:17:50 -0400 (Wed, 15 Oct 2025) EndedAt: 2025-10-15 15:18:54 -0400 (Wed, 15 Oct 2025) EllapsedTime: 63.9 seconds RetCode: 0 Status: OK