Package: ramr Version: 1.17.1 Command: /Library/Frameworks/R.framework/Resources/bin/R CMD build --keep-empty-dirs --no-resave-data ramr StartedAt: 2025-10-15 18:56:05 -0400 (Wed, 15 Oct 2025) EndedAt: 2025-10-15 18:59:46 -0400 (Wed, 15 Oct 2025) EllapsedTime: 221.9 seconds RetCode: 0 Status: OK PackageFile: ramr_1.17.1.tar.gz PackageFileSize: 2.844 MiB