Package: ramr Version: 1.17.1 Command: rm -rf ramr.buildbin-libdir && mkdir ramr.buildbin-libdir && /Users/biocbuild/BBS/utils/build-universal.sh ramr_1.17.1.tar.gz /Library/Frameworks/R.framework/Resources/bin/R ramr.buildbin-libdir StartedAt: 2025-10-16 03:11:00 -0400 (Thu, 16 Oct 2025) EndedAt: 2025-10-16 03:12:07 -0400 (Thu, 16 Oct 2025) EllapsedTime: 67.1 seconds RetCode: 0 Status: OK PackageFile: ramr_1.17.1.tgz PackageFileSize: 2.855 MiB