Package: rain Version: 1.45.0 Command: /home/biocbuild/bbs-3.23-bioc/R/bin/R CMD INSTALL rain StartedAt: 2025-11-20 15:11:40 -0500 (Thu, 20 Nov 2025) EndedAt: 2025-11-20 15:11:47 -0500 (Thu, 20 Nov 2025) EllapsedTime: 6.7 seconds RetCode: 0 Status: OK