Package: rain Version: 1.43.0 Command: /Library/Frameworks/R.framework/Resources/bin/R CMD INSTALL rain StartedAt: 2025-10-22 15:14:58 -0400 (Wed, 22 Oct 2025) EndedAt: 2025-10-22 15:15:11 -0400 (Wed, 22 Oct 2025) EllapsedTime: 13.1 seconds RetCode: 0 Status: OK