Package: rain Version: 1.43.0 Command: /Library/Frameworks/R.framework/Resources/bin/R CMD build --keep-empty-dirs --no-resave-data rain StartedAt: 2025-10-21 19:09:16 -0400 (Tue, 21 Oct 2025) EndedAt: 2025-10-21 19:09:55 -0400 (Tue, 21 Oct 2025) EllapsedTime: 38.8 seconds RetCode: 0 Status: OK PackageFile: rain_1.43.0.tar.gz PackageFileSize: 604 KiB