Package: rain Version: 1.43.0 Command: /Library/Frameworks/R.framework/Resources/bin/R CMD INSTALL rain StartedAt: 2025-10-05 15:06:55 -0400 (Sun, 05 Oct 2025) EndedAt: 2025-10-05 15:06:57 -0400 (Sun, 05 Oct 2025) EllapsedTime: 2.8 seconds RetCode: 0 Status: OK