Package: rain Version: 1.43.0 Command: rm -rf rain.buildbin-libdir && mkdir rain.buildbin-libdir && /Users/biocbuild/BBS/utils/build-universal.sh rain_1.43.0.tar.gz /Library/Frameworks/R.framework/Resources/bin/R rain.buildbin-libdir StartedAt: 2025-10-05 22:55:10 -0400 (Sun, 05 Oct 2025) EndedAt: 2025-10-05 22:55:13 -0400 (Sun, 05 Oct 2025) EllapsedTime: 3.1 seconds RetCode: 0 Status: OK PackageFile: rain_1.43.0.tgz PackageFileSize: 632.7 KiB