Package: rain Version: 1.45.0 Maintainer: Paul F. Thaben MaintainerEmail: paul.thaben at charite.de git_url: https://git.bioconductor.org/packages/rain git_branch: devel git_last_commit: 5ed9a65 git_last_commit_date: 2025-10-29 10:21:22 -0500 (Wed, 29 Oct 2025)