Package: raer Version: 1.9.0 Command: /home/biocbuild/bbs-3.23-bioc/R/bin/R CMD INSTALL raer StartedAt: 2025-11-20 15:38:56 -0500 (Thu, 20 Nov 2025) EndedAt: 2025-11-20 15:39:42 -0500 (Thu, 20 Nov 2025) EllapsedTime: 45.8 seconds RetCode: 0 Status: OK