Package: raer Version: 1.7.2 Command: /Library/Frameworks/R.framework/Resources/bin/R CMD INSTALL raer StartedAt: 2025-10-16 15:32:32 -0400 (Thu, 16 Oct 2025) EndedAt: 2025-10-16 15:32:51 -0400 (Thu, 16 Oct 2025) EllapsedTime: 18.9 seconds RetCode: 0 Status: OK