Package: raer Version: 1.7.2 Command: /Library/Frameworks/R.framework/Resources/bin/R CMD build --keep-empty-dirs --no-resave-data raer StartedAt: 2025-10-17 17:27:21 -0400 (Fri, 17 Oct 2025) EndedAt: 2025-10-17 17:30:27 -0400 (Fri, 17 Oct 2025) EllapsedTime: 186.2 seconds RetCode: 0 Status: OK PackageFile: raer_1.7.2.tar.gz PackageFileSize: 2.419 MiB