Package: raer Version: 1.7.2 Command: rm -rf raer.buildbin-libdir && mkdir raer.buildbin-libdir && /Users/biocbuild/BBS/utils/build-universal.sh raer_1.7.2.tar.gz /Library/Frameworks/R.framework/Resources/bin/R raer.buildbin-libdir StartedAt: 2025-10-16 23:13:28 -0400 (Thu, 16 Oct 2025) EndedAt: 2025-10-16 23:13:49 -0400 (Thu, 16 Oct 2025) EllapsedTime: 20.5 seconds RetCode: 0 Status: OK PackageFile: raer_1.7.2.tgz PackageFileSize: 3.205 MiB