Package: rWikiPathways Version: 1.31.0 Command: /home/biocbuild/bbs-3.23-bioc/R/bin/R CMD INSTALL rWikiPathways StartedAt: 2025-10-30 15:09:18 -0400 (Thu, 30 Oct 2025) EndedAt: 2025-10-30 15:09:26 -0400 (Thu, 30 Oct 2025) EllapsedTime: 7.5 seconds RetCode: 0 Status: OK