Package: rWikiPathways Version: 1.29.2 Command: /Library/Frameworks/R.framework/Resources/bin/R CMD build --keep-empty-dirs --no-resave-data rWikiPathways StartedAt: 2025-10-22 18:29:03 -0400 (Wed, 22 Oct 2025) EndedAt: 2025-10-22 18:29:28 -0400 (Wed, 22 Oct 2025) EllapsedTime: 25.2 seconds RetCode: 0 Status: OK PackageFile: rWikiPathways_1.29.2.tar.gz PackageFileSize: 10.38 MiB