Package: rWikiPathways Version: 1.29.1 Command: /Library/Frameworks/R.framework/Resources/bin/R CMD build --keep-empty-dirs --no-resave-data rWikiPathways StartedAt: 2025-10-07 17:36:31 -0400 (Tue, 07 Oct 2025) EndedAt: 2025-10-07 17:36:39 -0400 (Tue, 07 Oct 2025) EllapsedTime: 8.1 seconds RetCode: 0 Status: OK PackageFile: rWikiPathways_1.29.1.tar.gz PackageFileSize: 10.38 MiB