Package: rWikiPathways Version: 1.29.1 Command: rm -rf rWikiPathways.buildbin-libdir && mkdir rWikiPathways.buildbin-libdir && /Users/biocbuild/BBS/utils/build-universal.sh rWikiPathways_1.29.1.tar.gz /Library/Frameworks/R.framework/Resources/bin/R rWikiPathways.buildbin-libdir StartedAt: 2025-10-08 23:02:17 -0400 (Wed, 08 Oct 2025) EndedAt: 2025-10-08 23:02:20 -0400 (Wed, 08 Oct 2025) EllapsedTime: 3.1 seconds RetCode: 0 Status: OK PackageFile: rWikiPathways_1.29.1.tgz PackageFileSize: 2.875 MiB