Package: rTRMui Version: 1.49.0 Command: /home/biocbuild/bbs-3.23-bioc/R/bin/R CMD INSTALL rTRMui StartedAt: 2025-11-06 15:59:53 -0500 (Thu, 06 Nov 2025) EndedAt: 2025-11-06 16:00:43 -0500 (Thu, 06 Nov 2025) EllapsedTime: 49.3 seconds RetCode: 0 Status: OK