Package: rTRMui Version: 1.47.0 Command: /Library/Frameworks/R.framework/Resources/bin/R CMD INSTALL rTRMui StartedAt: 2025-10-17 15:52:08 -0400 (Fri, 17 Oct 2025) EndedAt: 2025-10-17 15:53:03 -0400 (Fri, 17 Oct 2025) EllapsedTime: 54.8 seconds RetCode: 0 Status: OK