Package: rTRMui Version: 1.47.0 Command: /Library/Frameworks/R.framework/Resources/bin/R CMD build --keep-empty-dirs --no-resave-data rTRMui StartedAt: 2025-10-17 19:09:19 -0400 (Fri, 17 Oct 2025) EndedAt: 2025-10-17 19:10:55 -0400 (Fri, 17 Oct 2025) EllapsedTime: 96.1 seconds RetCode: 0 Status: OK PackageFile: rTRMui_1.47.0.tar.gz PackageFileSize: 1.11 MiB