Package: rTRMui Version: 1.47.0 Command: rm -rf rTRMui.buildbin-libdir && mkdir rTRMui.buildbin-libdir && /Users/biocbuild/BBS/utils/build-universal.sh rTRMui_1.47.0.tar.gz /Library/Frameworks/R.framework/Resources/bin/R rTRMui.buildbin-libdir StartedAt: 2025-10-18 03:19:19 -0400 (Sat, 18 Oct 2025) EndedAt: 2025-10-18 03:20:29 -0400 (Sat, 18 Oct 2025) EllapsedTime: 70.2 seconds RetCode: 0 Status: OK PackageFile: rTRMui_1.47.0.tgz PackageFileSize: 834.9 KiB