Package: rTRMui Version: 1.47.0 Command: /Library/Frameworks/R.framework/Resources/bin/R CMD INSTALL rTRMui StartedAt: 2025-10-10 15:34:34 -0400 (Fri, 10 Oct 2025) EndedAt: 2025-10-10 15:34:53 -0400 (Fri, 10 Oct 2025) EllapsedTime: 19.2 seconds RetCode: 0 Status: OK