Package: rTRMui Version: 1.47.0 Command: /Library/Frameworks/R.framework/Resources/bin/R CMD build --keep-empty-dirs --no-resave-data rTRMui StartedAt: 2025-10-10 17:34:05 -0400 (Fri, 10 Oct 2025) EndedAt: 2025-10-10 17:34:33 -0400 (Fri, 10 Oct 2025) EllapsedTime: 28.3 seconds RetCode: 0 Status: OK PackageFile: rTRMui_1.47.0.tar.gz PackageFileSize: 1.11 MiB