Package: rTRMui Version: 1.47.0 Command: rm -rf rTRMui.buildbin-libdir && mkdir rTRMui.buildbin-libdir && /Users/biocbuild/BBS/utils/build-universal.sh rTRMui_1.47.0.tar.gz /Library/Frameworks/R.framework/Resources/bin/R rTRMui.buildbin-libdir StartedAt: 2025-10-10 22:55:44 -0400 (Fri, 10 Oct 2025) EndedAt: 2025-10-10 22:56:05 -0400 (Fri, 10 Oct 2025) EllapsedTime: 21.4 seconds RetCode: 0 Status: OK PackageFile: rTRMui_1.47.0.tgz PackageFileSize: 835 KiB