Package: rTRM Version: 1.49.0 Command: /home/biocbuild/bbs-3.23-bioc/R/bin/R CMD INSTALL rTRM StartedAt: 2025-11-05 15:32:27 -0500 (Wed, 05 Nov 2025) EndedAt: 2025-11-05 15:32:43 -0500 (Wed, 05 Nov 2025) EllapsedTime: 16.3 seconds RetCode: 0 Status: OK