Package: rTRM Version: 1.49.0 Command: /home/biocbuild/bbs-3.23-bioc/R/bin/R CMD build --keep-empty-dirs --no-resave-data rTRM StartedAt: 2025-11-05 19:46:06 -0500 (Wed, 05 Nov 2025) EndedAt: 2025-11-05 19:46:54 -0500 (Wed, 05 Nov 2025) EllapsedTime: 48.0 seconds RetCode: 0 Status: OK PackageFile: rTRM_1.49.0.tar.gz PackageFileSize: 3.508 MiB