Package: rTRM Version: 1.47.0 Command: /Library/Frameworks/R.framework/Resources/bin/R CMD INSTALL rTRM StartedAt: 2025-10-13 15:21:47 -0400 (Mon, 13 Oct 2025) EndedAt: 2025-10-13 15:22:11 -0400 (Mon, 13 Oct 2025) EllapsedTime: 23.9 seconds RetCode: 0 Status: OK