Package: rTRM Version: 1.47.0 Command: rm -rf rTRM.buildbin-libdir && mkdir rTRM.buildbin-libdir && /Users/biocbuild/BBS/utils/build-universal.sh rTRM_1.47.0.tar.gz /Library/Frameworks/R.framework/Resources/bin/R rTRM.buildbin-libdir StartedAt: 2025-10-13 02:54:04 -0400 (Mon, 13 Oct 2025) EndedAt: 2025-10-13 02:54:32 -0400 (Mon, 13 Oct 2025) EllapsedTime: 27.6 seconds RetCode: 0 Status: OK PackageFile: rTRM_1.47.0.tgz PackageFileSize: 3.504 MiB