Package: rTRM Version: 1.47.0 Command: /Library/Frameworks/R.framework/Resources/bin/R CMD INSTALL rTRM StartedAt: 2025-09-29 15:08:34 -0400 (Mon, 29 Sep 2025) EndedAt: 2025-09-29 15:08:41 -0400 (Mon, 29 Sep 2025) EllapsedTime: 6.1 seconds RetCode: 0 Status: OK