Package: rTRM Version: 1.47.0 Command: /Library/Frameworks/R.framework/Resources/bin/R CMD build --keep-empty-dirs --no-resave-data rTRM StartedAt: 2025-09-30 17:38:34 -0400 (Tue, 30 Sep 2025) EndedAt: 2025-09-30 17:38:55 -0400 (Tue, 30 Sep 2025) EllapsedTime: 21.2 seconds RetCode: 0 Status: OK PackageFile: rTRM_1.47.0.tar.gz PackageFileSize: 3.556 MiB