Package: rTRM Version: 1.47.0 Command: rm -rf rTRM.buildbin-libdir && mkdir rTRM.buildbin-libdir && /Users/biocbuild/BBS/utils/build-universal.sh rTRM_1.47.0.tar.gz /Library/Frameworks/R.framework/Resources/bin/R rTRM.buildbin-libdir StartedAt: 2025-09-29 22:50:06 -0400 (Mon, 29 Sep 2025) EndedAt: 2025-09-29 22:50:13 -0400 (Mon, 29 Sep 2025) EllapsedTime: 7.1 seconds RetCode: 0 Status: OK PackageFile: rTRM_1.47.0.tgz PackageFileSize: 3.509 MiB