Package: rTRM Version: 1.47.0 Maintainer: Diego Diez MaintainerEmail: diego10ruiz at gmail.com git_url: https://git.bioconductor.org/packages/rTRM git_branch: devel git_last_commit: 2dbf43a git_last_commit_date: 2025-04-15 10:24:54 -0400 (Tue, 15 Apr 2025)