Package: rScudo Version: 1.27.0 Command: /home/biocbuild/bbs-3.23-bioc/R/bin/R CMD build --keep-empty-dirs --no-resave-data rScudo StartedAt: 2025-11-20 19:43:32 -0500 (Thu, 20 Nov 2025) EndedAt: 2025-11-20 19:45:05 -0500 (Thu, 20 Nov 2025) EllapsedTime: 93.1 seconds RetCode: 0 Status: OK PackageFile: rScudo_1.27.0.tar.gz PackageFileSize: 847.6 KiB