Package: rScudo Version: 1.25.0 Command: /Library/Frameworks/R.framework/Resources/bin/R CMD INSTALL rScudo StartedAt: 2025-10-20 15:11:41 -0400 (Mon, 20 Oct 2025) EndedAt: 2025-10-20 15:11:44 -0400 (Mon, 20 Oct 2025) EllapsedTime: 2.2 seconds RetCode: 0 Status: OK