Package: rScudo Version: 1.25.0 Command: /Library/Frameworks/R.framework/Resources/bin/R CMD build --keep-empty-dirs --no-resave-data rScudo StartedAt: 2025-10-19 17:32:07 -0400 (Sun, 19 Oct 2025) EndedAt: 2025-10-19 17:32:47 -0400 (Sun, 19 Oct 2025) EllapsedTime: 40.5 seconds RetCode: 0 Status: OK PackageFile: rScudo_1.25.0.tar.gz PackageFileSize: 940.7 KiB