Package: rSWeeP Version: 1.23.0 Command: /home/biocbuild/bbs-3.23-bioc/R/bin/R CMD build --keep-empty-dirs --no-resave-data rSWeeP StartedAt: 2025-11-05 19:45:05 -0500 (Wed, 05 Nov 2025) EndedAt: 2025-11-05 19:45:29 -0500 (Wed, 05 Nov 2025) EllapsedTime: 24.0 seconds RetCode: 0 Status: OK PackageFile: rSWeeP_1.23.0.tar.gz PackageFileSize: 419.8 KiB