Package: rSWeeP Version: 1.21.0 Command: /Library/Frameworks/R.framework/Resources/bin/R CMD INSTALL rSWeeP StartedAt: 2025-10-21 15:19:41 -0400 (Tue, 21 Oct 2025) EndedAt: 2025-10-21 15:19:56 -0400 (Tue, 21 Oct 2025) EllapsedTime: 15.0 seconds RetCode: 0 Status: OK