Package: rRDP Version: 1.43.1 Command: /home/biocbuild/R/R/bin/R CMD build --keep-empty-dirs --no-resave-data rRDP StartedAt: 2025-10-21 02:39:17 -0000 (Tue, 21 Oct 2025) EndedAt: 2025-10-21 02:39:44 -0000 (Tue, 21 Oct 2025) EllapsedTime: 27.0 seconds RetCode: 0 Status: OK PackageFile: rRDP_1.43.1.tar.gz PackageFileSize: 2.595 MiB