Package: rRDP Version: 1.43.1 Command: /home/biocbuild/bbs-3.22-bioc/R/bin/R CMD check --install=check:rRDP.install-out.txt --library=/home/biocbuild/bbs-3.22-bioc/R/site-library --timings rRDP_1.43.1.tar.gz StartedAt: 2025-10-18 04:06:08 -0400 (Sat, 18 Oct 2025) EndedAt: 2025-10-18 04:07:40 -0400 (Sat, 18 Oct 2025) EllapsedTime: 92.1 seconds RetCode: 0 Status: OK CheckDir: rRDP.Rcheck Warnings: 0