Package: rGenomeTracks Version: 1.17.0 Command: /home/biocbuild/bbs-3.23-bioc/R/bin/R CMD INSTALL rGenomeTracks StartedAt: 2025-11-20 15:25:26 -0500 (Thu, 20 Nov 2025) EndedAt: 2025-11-20 15:25:32 -0500 (Thu, 20 Nov 2025) EllapsedTime: 6.6 seconds RetCode: 0 Status: OK