Package: rGenomeTracks Version: 1.17.0 Command: /home/biocbuild/bbs-3.23-bioc/R/bin/R CMD build --keep-empty-dirs --no-resave-data rGenomeTracks StartedAt: 2025-11-20 19:35:34 -0500 (Thu, 20 Nov 2025) EndedAt: 2025-11-20 19:35:45 -0500 (Thu, 20 Nov 2025) EllapsedTime: 11.0 seconds RetCode: 0 Status: OK PackageFile: rGenomeTracks_1.17.0.tar.gz PackageFileSize: 3.341 MiB