Package: rGenomeTracks Version: 1.15.0 Command: /Library/Frameworks/R.framework/Resources/bin/R CMD INSTALL rGenomeTracks StartedAt: 2025-10-12 15:26:20 -0400 (Sun, 12 Oct 2025) EndedAt: 2025-10-12 15:26:32 -0400 (Sun, 12 Oct 2025) EllapsedTime: 12.1 seconds RetCode: 0 Status: OK