Package: rGenomeTracks Version: 1.15.0 Command: /Library/Frameworks/R.framework/Resources/bin/R CMD build --keep-empty-dirs --no-resave-data rGenomeTracks StartedAt: 2025-10-12 18:52:37 -0400 (Sun, 12 Oct 2025) EndedAt: 2025-10-12 18:53:00 -0400 (Sun, 12 Oct 2025) EllapsedTime: 23.0 seconds RetCode: 0 Status: OK PackageFile: rGenomeTracks_1.15.0.tar.gz PackageFileSize: 3.345 MiB