Package: rGenomeTracks Version: 1.15.0 Command: rm -rf rGenomeTracks.buildbin-libdir && mkdir rGenomeTracks.buildbin-libdir && /Users/biocbuild/BBS/utils/build-universal.sh rGenomeTracks_1.15.0.tar.gz /Library/Frameworks/R.framework/Resources/bin/R rGenomeTracks.buildbin-libdir StartedAt: 2025-10-13 02:51:57 -0400 (Mon, 13 Oct 2025) EndedAt: 2025-10-13 02:52:10 -0400 (Mon, 13 Oct 2025) EllapsedTime: 12.7 seconds RetCode: 0 Status: OK PackageFile: rGenomeTracks_1.15.0.tgz PackageFileSize: 3.41 MiB