Package: rGenomeTracks Version: 1.15.0 Command: /Library/Frameworks/R.framework/Resources/bin/R CMD build --keep-empty-dirs --no-resave-data rGenomeTracks StartedAt: 2025-09-29 17:27:51 -0400 (Mon, 29 Sep 2025) EndedAt: 2025-09-29 17:27:57 -0400 (Mon, 29 Sep 2025) EllapsedTime: 6.1 seconds RetCode: 0 Status: OK PackageFile: rGenomeTracks_1.15.0.tar.gz PackageFileSize: 3.345 MiB