Package: rGenomeTracks Version: 1.16.0 Maintainer: Omar Elashkar MaintainerEmail: omar.i.elashkar at gmail.com git_url: https://git.bioconductor.org/packages/rGenomeTracks git_branch: RELEASE_3_22 git_last_commit: c118752 git_last_commit_date: 2025-10-29 11:11:59 -0400 (Wed, 29 Oct 2025)