Package: rGREAT Version: 2.11.0 Command: /home/biocbuild/bbs-3.22-bioc/R/bin/R CMD check --install=check:rGREAT.install-out.txt --library=/home/biocbuild/bbs-3.22-bioc/R/site-library --timings rGREAT_2.11.0.tar.gz StartedAt: 2025-10-29 03:10:19 -0400 (Wed, 29 Oct 2025) EndedAt: 2025-10-29 03:15:15 -0400 (Wed, 29 Oct 2025) EllapsedTime: 296.4 seconds RetCode: 1 Status: ERROR CheckDir: rGREAT.Rcheck Warnings: NA