Package: rGREAT Version: 2.13.1 Command: /home/biocbuild/bbs-3.23-bioc/R/bin/R CMD INSTALL rGREAT StartedAt: 2025-11-05 16:05:34 -0500 (Wed, 05 Nov 2025) EndedAt: 2025-11-05 16:06:19 -0500 (Wed, 05 Nov 2025) EllapsedTime: 45.5 seconds RetCode: 0 Status: OK